BEGIN:VCALENDAR
VERSION:2.0
PRODID:-//Lillestrik - ECPv6.8.3//NONSGML v1.0//EN
CALSCALE:GREGORIAN
METHOD:PUBLISH
X-ORIGINAL-URL:https://lillestrik.dk
X-WR-CALDESC:Begivenheder for Lillestrik
REFRESH-INTERVAL;VALUE=DURATION:PT1H
X-Robots-Tag:noindex
X-PUBLISHED-TTL:PT1H
BEGIN:VTIMEZONE
TZID:Europe/Copenhagen
BEGIN:DAYLIGHT
TZOFFSETFROM:+0100
TZOFFSETTO:+0200
TZNAME:CEST
DTSTART:20230326T010000
END:DAYLIGHT
BEGIN:STANDARD
TZOFFSETFROM:+0200
TZOFFSETTO:+0100
TZNAME:CET
DTSTART:20231029T010000
END:STANDARD
END:VTIMEZONE
BEGIN:VEVENT
DTSTART;VALUE=DATE:20231126
DTEND;VALUE=DATE:20231203
DTSTAMP:20260421T162538
CREATED:20230619T115105Z
LAST-MODIFIED:20230619T141148Z
UID:11367-1700956800-1701561599@lillestrik.dk
SUMMARY:Strik og Højskole
DESCRIPTION:Denne uge underviser jeg på Nørgaards Højskole i Bjerringbro. \nTilmelding direkte til Højskolen – klik her.
URL:https://lillestrik.dk/event/strik-og-hoejskole-11/
LOCATION:Nørgaards Højskole\, Vestre Ringvej 9\, Bjerringbro\, 8850\, Danmark
CATEGORIES:Strikkekursus
ATTACH;FMTTYPE=image/jpeg:https://lillestrik.dk/wp-content/uploads/Forside-til-kategoribillede.jpg
END:VEVENT
END:VCALENDAR