BEGIN:VCALENDAR
VERSION:2.0
PRODID:-//Lillestrik - ECPv6.8.3//NONSGML v1.0//EN
CALSCALE:GREGORIAN
METHOD:PUBLISH
X-WR-CALNAME:Lillestrik
X-ORIGINAL-URL:https://lillestrik.dk
X-WR-CALDESC:Begivenheder for Lillestrik
REFRESH-INTERVAL;VALUE=DURATION:PT1H
X-Robots-Tag:noindex
X-PUBLISHED-TTL:PT1H
BEGIN:VTIMEZONE
TZID:Europe/Copenhagen
BEGIN:DAYLIGHT
TZOFFSETFROM:+0100
TZOFFSETTO:+0200
TZNAME:CEST
DTSTART:20240331T010000
END:DAYLIGHT
BEGIN:STANDARD
TZOFFSETFROM:+0200
TZOFFSETTO:+0100
TZNAME:CET
DTSTART:20241027T010000
END:STANDARD
END:VTIMEZONE
BEGIN:VEVENT
DTSTART;VALUE=DATE:20240128
DTEND;VALUE=DATE:20240204
DTSTAMP:20260425T140541
CREATED:20231123T103050Z
LAST-MODIFIED:20231123T105320Z
UID:11706-1706400000-1707004799@lillestrik.dk
SUMMARY:Strik og Højskole
DESCRIPTION:Denne uge underviser jeg på Nørgaards Højskole i Bjerringbro. Tilmelding direkte til Nørgaards Højskole
URL:https://lillestrik.dk/event/strik-og-hoejskole-12/
LOCATION:Nørgaards Højskole\, Vestre Ringvej 9\, Bjerringbro\, 8850\, Danmark
CATEGORIES:Strikkekursus
ATTACH;FMTTYPE=image/jpeg:https://lillestrik.dk/wp-content/uploads/Forside-til-kategoribillede.jpg
END:VEVENT
END:VCALENDAR