BEGIN:VCALENDAR
VERSION:2.0
PRODID:-//Lillestrik - ECPv6.8.3//NONSGML v1.0//EN
CALSCALE:GREGORIAN
METHOD:PUBLISH
X-ORIGINAL-URL:https://lillestrik.dk
X-WR-CALDESC:Begivenheder for Lillestrik
REFRESH-INTERVAL;VALUE=DURATION:PT1H
X-Robots-Tag:noindex
X-PUBLISHED-TTL:PT1H
BEGIN:VTIMEZONE
TZID:Europe/Copenhagen
BEGIN:DAYLIGHT
TZOFFSETFROM:+0100
TZOFFSETTO:+0200
TZNAME:CEST
DTSTART:20240331T010000
END:DAYLIGHT
BEGIN:STANDARD
TZOFFSETFROM:+0200
TZOFFSETTO:+0100
TZNAME:CET
DTSTART:20241027T010000
END:STANDARD
END:VTIMEZONE
BEGIN:VEVENT
DTSTART;VALUE=DATE:20240225
DTEND;VALUE=DATE:20240303
DTSTAMP:20260422T021436
CREATED:20231123T105206Z
LAST-MODIFIED:20231123T105206Z
UID:11727-1708819200-1709423999@lillestrik.dk
SUMMARY:Strik og Højskole
DESCRIPTION:Denne uge underviser jeg på Nørgaards Højskole. Tilmelding direkte til Højskolen
URL:https://lillestrik.dk/event/strik-og-hoejskole-13/
LOCATION:Nørgaards Højskole\, Vestre Ringvej 9\, Bjerringbro\, 8850\, Danmark
CATEGORIES:Strikkekursus
ATTACH;FMTTYPE=image/jpeg:https://lillestrik.dk/wp-content/uploads/5-scaled.jpg
END:VEVENT
BEGIN:VEVENT
DTSTART;TZID=Europe/Copenhagen:20240307T180000
DTEND;TZID=Europe/Copenhagen:20240307T210000
DTSTAMP:20260422T021436
CREATED:20231123T104236Z
LAST-MODIFIED:20231123T104236Z
UID:11717-1709834400-1709845200@lillestrik.dk
SUMMARY:Jeg vil strikke dagen blå - farver og teknik
DESCRIPTION:Denne aften underviser jeg på Struer Bibliotek i det med farver og teknik i strik. Tilmelding direkte til Struer Bibliotek.
URL:https://lillestrik.dk/event/jeg-vil-strikke-dagen-blaa-farver-og-teknik-2/
LOCATION:Struer Bibliotek\, Smedegade 1-6\, Struer
CATEGORIES:Strikkekursus
ATTACH;FMTTYPE=image/jpeg:https://lillestrik.dk/wp-content/uploads/forside-til-hjemmeside-scaled.jpg
END:VEVENT
BEGIN:VEVENT
DTSTART;TZID=Europe/Copenhagen:20240309T130000
DTEND;TZID=Europe/Copenhagen:20240309T170000
DTSTAMP:20260422T021436
CREATED:20231123T104638Z
LAST-MODIFIED:20231123T104638Z
UID:11722-1709989200-1710003600@lillestrik.dk
SUMMARY:Jeg vil strikke dagen blå - farver og teknik
DESCRIPTION:Denne eftermiddag underviser jeg i Jelling i det med farver og teknik i strik. Det er Jelling Kreativ Fritid der står for arrangementet og der man melder sig til.
URL:https://lillestrik.dk/event/jeg-vil-strikke-dagen-blaa-farver-og-teknik-3/
LOCATION:Byens Hus\, Møllegade 10\, jelling
CATEGORIES:Strikkekursus
ATTACH;FMTTYPE=image/jpeg:https://lillestrik.dk/wp-content/uploads/5-scaled.jpg
END:VEVENT
BEGIN:VEVENT
DTSTART;TZID=Europe/Copenhagen:20240323T093000
DTEND;TZID=Europe/Copenhagen:20240323T114500
DTSTAMP:20260422T021436
CREATED:20231123T104905Z
LAST-MODIFIED:20231123T104905Z
UID:11725-1711186200-1711194300@lillestrik.dk
SUMMARY:Jeg vil strikke dagen blå - Farver og teknik
DESCRIPTION:Denne formiddag underviser jeg på Løgumkloster Refugium i det med farver og teknik i strik. Tilmelding direkte til Løgumkloster Refugium.
URL:https://lillestrik.dk/event/jeg-vil-strikke-dagen-blaa-farver-og-teknik-4/
LOCATION:Løgumkloster Refugium\, Løgumkloster\, Danmark
CATEGORIES:Strikkekursus
ATTACH;FMTTYPE=image/jpeg:https://lillestrik.dk/wp-content/uploads/forside-til-hjemmeside-scaled.jpg
END:VEVENT
END:VCALENDAR